BEGIN:VCALENDAR
VERSION:2.0
PRODID:-//Planters Bunch - ECPv6.15.17.1//NONSGML v1.0//EN
CALSCALE:GREGORIAN
METHOD:PUBLISH
X-ORIGINAL-URL:https://plantersbunch.com
X-WR-CALDESC:Events for Planters Bunch
REFRESH-INTERVAL;VALUE=DURATION:PT1H
X-Robots-Tag:noindex
X-PUBLISHED-TTL:PT1H
BEGIN:VTIMEZONE
TZID:America/Chicago
BEGIN:DAYLIGHT
TZOFFSETFROM:-0600
TZOFFSETTO:-0500
TZNAME:CDT
DTSTART:20250309T080000
END:DAYLIGHT
BEGIN:STANDARD
TZOFFSETFROM:-0500
TZOFFSETTO:-0600
TZNAME:CST
DTSTART:20251102T070000
END:STANDARD
BEGIN:DAYLIGHT
TZOFFSETFROM:-0600
TZOFFSETTO:-0500
TZNAME:CDT
DTSTART:20260308T080000
END:DAYLIGHT
BEGIN:STANDARD
TZOFFSETFROM:-0500
TZOFFSETTO:-0600
TZNAME:CST
DTSTART:20261101T070000
END:STANDARD
BEGIN:DAYLIGHT
TZOFFSETFROM:-0600
TZOFFSETTO:-0500
TZNAME:CDT
DTSTART:20270314T080000
END:DAYLIGHT
BEGIN:STANDARD
TZOFFSETFROM:-0500
TZOFFSETTO:-0600
TZNAME:CST
DTSTART:20271107T070000
END:STANDARD
END:VTIMEZONE
BEGIN:VEVENT
DTSTART;TZID=America/Chicago:20261003T110000
DTEND;TZID=America/Chicago:20261003T123000
DTSTAMP:20260419T095451
CREATED:20260308T143337Z
LAST-MODIFIED:20260308T143337Z
UID:2249-1791025200-1791030600@plantersbunch.com
SUMMARY:Planters Bunch Meeting
DESCRIPTION:Mark your calendar for the Planters Bunch meeting at 11AM at the Fire Station! This is a great opportunity for members to come together\, reconnect\, and hear about everything Planters Bunch has been working on in recent months. From community events to charitable efforts and upcoming projects\, there is plenty of exciting news to share. \nYour participation matters. Come hear what’s new\, share your ideas\, and help us prepare for another memorable community celebration. We look forward to seeing you there!
URL:https://plantersbunch.com/event/planters-bunch-meeting-11/
LOCATION:Fire Station
END:VEVENT
BEGIN:VEVENT
DTSTART;TZID=America/Chicago:20261003T120000
DTEND;TZID=America/Chicago:20261003T170000
DTSTAMP:20260419T095451
CREATED:20260308T190921Z
LAST-MODIFIED:20260308T190921Z
UID:2285-1791028800-1791046800@plantersbunch.com
SUMMARY:BBQ Cookoff
DESCRIPTION:
URL:https://plantersbunch.com/event/bbq-cookoff-4/
LOCATION:Park Pavilion
END:VEVENT
BEGIN:VEVENT
DTSTART;TZID=America/Chicago:20261003T153000
DTEND;TZID=America/Chicago:20261003T183000
DTSTAMP:20260419T095451
CREATED:20260308T191127Z
LAST-MODIFIED:20260308T191127Z
UID:2289-1791041400-1791052200@plantersbunch.com
SUMMARY:BBQ Cookoff Plate Sales-Lighthouse Charity
DESCRIPTION:
URL:https://plantersbunch.com/event/bbq-cookoff-plate-sales-lighthouse-charity/
LOCATION:Park Pavilion
END:VEVENT
BEGIN:VEVENT
DTSTART;TZID=America/Chicago:20261003T173000
DTEND;TZID=America/Chicago:20261003T173000
DTSTAMP:20260419T095451
CREATED:20260308T191011Z
LAST-MODIFIED:20260308T191011Z
UID:2287-1791048600-1791048600@plantersbunch.com
SUMMARY:BBQ Cookoff 50/50 Raffle Drawing
DESCRIPTION:
URL:https://plantersbunch.com/event/bbq-cookoff-50-50-raffle-drawing/
LOCATION:Park Pavilion
END:VEVENT
END:VCALENDAR