BEGIN:VCALENDAR
VERSION:2.0
PRODID:-//Planters Bunch - ECPv6.15.17.1//NONSGML v1.0//EN
CALSCALE:GREGORIAN
METHOD:PUBLISH
X-ORIGINAL-URL:https://plantersbunch.com
X-WR-CALDESC:Events for Planters Bunch
REFRESH-INTERVAL;VALUE=DURATION:PT1H
X-Robots-Tag:noindex
X-PUBLISHED-TTL:PT1H
BEGIN:VTIMEZONE
TZID:America/Chicago
BEGIN:DAYLIGHT
TZOFFSETFROM:-0600
TZOFFSETTO:-0500
TZNAME:CDT
DTSTART:20250309T080000
END:DAYLIGHT
BEGIN:STANDARD
TZOFFSETFROM:-0500
TZOFFSETTO:-0600
TZNAME:CST
DTSTART:20251102T070000
END:STANDARD
BEGIN:DAYLIGHT
TZOFFSETFROM:-0600
TZOFFSETTO:-0500
TZNAME:CDT
DTSTART:20260308T080000
END:DAYLIGHT
BEGIN:STANDARD
TZOFFSETFROM:-0500
TZOFFSETTO:-0600
TZNAME:CST
DTSTART:20261101T070000
END:STANDARD
BEGIN:DAYLIGHT
TZOFFSETFROM:-0600
TZOFFSETTO:-0500
TZNAME:CDT
DTSTART:20270314T080000
END:DAYLIGHT
BEGIN:STANDARD
TZOFFSETFROM:-0500
TZOFFSETTO:-0600
TZNAME:CST
DTSTART:20271107T070000
END:STANDARD
BEGIN:DAYLIGHT
TZOFFSETFROM:-0600
TZOFFSETTO:-0500
TZNAME:CDT
DTSTART:20280312T080000
END:DAYLIGHT
BEGIN:STANDARD
TZOFFSETFROM:-0500
TZOFFSETTO:-0600
TZNAME:CST
DTSTART:20281105T070000
END:STANDARD
END:VTIMEZONE
BEGIN:VEVENT
DTSTART;TZID=America/Chicago:20261211T181500
DTEND;TZID=America/Chicago:20261211T201500
DTSTAMP:20260419T200649
CREATED:20260308T191352Z
LAST-MODIFIED:20260308T191352Z
UID:2293-1797012900-1797020100@plantersbunch.com
SUMMARY:Holiday Lights Judging-Dec 11 and 12 After Dark
DESCRIPTION:
URL:https://plantersbunch.com/event/holiday-lights-judging-dec-11-and-12-after-dark/
END:VEVENT
BEGIN:VEVENT
DTSTART;TZID=America/Chicago:20261212T181500
DTEND;TZID=America/Chicago:20261212T201500
DTSTAMP:20260419T200649
CREATED:20260308T191443Z
LAST-MODIFIED:20260308T191443Z
UID:2295-1797099300-1797106500@plantersbunch.com
SUMMARY:Holiday Lights Judging-Dec 11 and 12 After Dark
DESCRIPTION:
URL:https://plantersbunch.com/event/holiday-lights-judging-dec-11-and-12-after-dark-2/
END:VEVENT
BEGIN:VEVENT
DTSTART;TZID=America/Chicago:20270109T110000
DTEND;TZID=America/Chicago:20270109T123000
DTSTAMP:20260419T200649
CREATED:20260308T143617Z
LAST-MODIFIED:20260308T143617Z
UID:2253-1799492400-1799497800@plantersbunch.com
SUMMARY:Planters Bunch Meeting
DESCRIPTION:Mark your calendar for the Planters Bunch meeting at 11AM at the Fire Station! This is a great opportunity for members to come together\, reconnect\, and hear about everything Planters Bunch has been working on in recent months. From community events to charitable efforts and upcoming projects\, there is plenty of exciting news to share. \nYour participation matters. Come hear what’s new\, share your ideas\, and help us prepare for another memorable community celebration. We look forward to seeing you there!
URL:https://plantersbunch.com/event/planters-bunch-meeting-12/
LOCATION:Fire Station
END:VEVENT
END:VCALENDAR